BEGIN:VCALENDAR
VERSION:2.0
CALSCALE:GREGORIAN
METHOD:PUBLISH
PRODID://NSSC//203650
BEGIN:VEVENT
DTSTAMP:20260424T010903
VTIMEZONE:America/New_York
DTSTART:20261206T160000Z
DTEND:20261206T190000Z
UID:203650
SUMMARY:Santa Party
LOCATION:
DESCRIPTION:Santa Party\n\n12/06/26 11:00 AM EST\n - 12/06/26 02:00 PM EST
X-ALT-DESC;FMTTYPE=text/html:Santa Party<br /><br />12/06/26 11:00 AM EST - 12/06/26 02:00 PM EST
PRIORITY:3
TRANSP:TRANSPARENT
BEGIN:VALARM
TRIGGER:-PT5M
ACTION:DISPLAY
DESCRIPTION:Reminder
END:VALARM
END:VEVENT
END:VCALENDAR
