BEGIN:VCALENDAR
VERSION:2.0
CALSCALE:GREGORIAN
METHOD:PUBLISH
PRODID://NSSC//212310
BEGIN:VEVENT
DTSTAMP:20260423T205848
VTIMEZONE:America/New_York
DTSTART:20261003T230000Z
DTEND:20261004T020000Z
UID:212310
SUMMARY:New Member Wine Tasting
LOCATION:
DESCRIPTION:New Member Wine Tasting\n\n10/03/26 07:00 PM EST\n - 10/03/26 10:00 PM EST
X-ALT-DESC;FMTTYPE=text/html:New Member Wine Tasting<br /><br />10/03/26 07:00 PM EST - 10/03/26 10:00 PM EST
PRIORITY:3
TRANSP:TRANSPARENT
BEGIN:VALARM
TRIGGER:-PT5M
ACTION:DISPLAY
DESCRIPTION:Reminder
END:VALARM
END:VEVENT
END:VCALENDAR
