BEGIN:VCALENDAR
VERSION:2.0
CALSCALE:GREGORIAN
METHOD:PUBLISH
PRODID://NSSC//59989
BEGIN:VEVENT
DTSTAMP:20260424T135558
VTIMEZONE:America/New_York
DTSTART:20191206T003000Z
DTEND:20191206T040000Z
UID:59989
SUMMARY:General Membership Meeting
LOCATION:North Star Sail Club, 32041 S RIVER RD, HARRISON TWP, MI, 48045
DESCRIPTION:General Membership Meeting\n\n12/05/19 07:30 PM EST\n - 12/05/19 11:00 PM EST\Description:\nGeneral Membership Meeting\Location:\nNorth Star Sail Club\n32041 S RIVER RD\nHARRISON TWP, MI 48045
X-ALT-DESC;FMTTYPE=text/html:General Membership Meeting<br /><br />12/05/19 07:30 PM EST - 12/05/19 11:00 PM EST<br />Description:<br />General Membership Meeting<br />Location:<br />North Star Sail Club<br />32041 S RIVER RD<br />HARRISON TWP, MI 48045
PRIORITY:3
TRANSP:TRANSPARENT
BEGIN:VALARM
TRIGGER:-PT5M
ACTION:DISPLAY
DESCRIPTION:Reminder
END:VALARM
END:VEVENT
END:VCALENDAR
