BEGIN:VCALENDAR
VERSION:2.0
CALSCALE:GREGORIAN
METHOD:PUBLISH
PRODID://NSSC//88956
BEGIN:VEVENT
DTSTAMP:20260424T084111
VTIMEZONE:America/New_York
DTSTART:20200310T230000Z
DTEND:20200311T010000Z
UID:88956
SUMMARY:Landscaping Committee Meeting 
LOCATION:
DESCRIPTION:Landscaping Committee Meeting \n\n03/10/20 07:00 PM EST\n - 03/10/20 09:00 PM EST
X-ALT-DESC;FMTTYPE=text/html:Landscaping Committee Meeting <br /><br />03/10/20 07:00 PM EST - 03/10/20 09:00 PM EST
PRIORITY:3
TRANSP:TRANSPARENT
BEGIN:VALARM
TRIGGER:-PT5M
ACTION:DISPLAY
DESCRIPTION:Reminder
END:VALARM
END:VEVENT
END:VCALENDAR
